BEGIN:VCALENDAR
VERSION:2.0
PRODID:-//Concerts at the Cathedral Basilica - ECPv6.15.20//NONSGML v1.0//EN
CALSCALE:GREGORIAN
METHOD:PUBLISH
X-ORIGINAL-URL:https://cathedralphilaconcerts.org
X-WR-CALDESC:Events for Concerts at the Cathedral Basilica
REFRESH-INTERVAL;VALUE=DURATION:PT1H
X-Robots-Tag:noindex
X-PUBLISHED-TTL:PT1H
BEGIN:VTIMEZONE
TZID:America/New_York
BEGIN:DAYLIGHT
TZOFFSETFROM:-0500
TZOFFSETTO:-0400
TZNAME:EDT
DTSTART:20140309T070000
END:DAYLIGHT
BEGIN:STANDARD
TZOFFSETFROM:-0400
TZOFFSETTO:-0500
TZNAME:EST
DTSTART:20141102T060000
END:STANDARD
BEGIN:DAYLIGHT
TZOFFSETFROM:-0500
TZOFFSETTO:-0400
TZNAME:EDT
DTSTART:20150308T070000
END:DAYLIGHT
BEGIN:STANDARD
TZOFFSETFROM:-0400
TZOFFSETTO:-0500
TZNAME:EST
DTSTART:20151101T060000
END:STANDARD
BEGIN:DAYLIGHT
TZOFFSETFROM:-0500
TZOFFSETTO:-0400
TZNAME:EDT
DTSTART:20160313T070000
END:DAYLIGHT
BEGIN:STANDARD
TZOFFSETFROM:-0400
TZOFFSETTO:-0500
TZNAME:EST
DTSTART:20161106T060000
END:STANDARD
END:VTIMEZONE
BEGIN:VEVENT
DTSTART;TZID=America/New_York:20151023T200000
DTEND;TZID=America/New_York:20151023T220000
DTSTAMP:20260422T102813
CREATED:20150811T194939Z
LAST-MODIFIED:20181023T124940Z
UID:529-1445630400-1445637600@cathedralphilaconcerts.org
SUMMARY:Tenebrae Choir of London
DESCRIPTION:[column width=”1/1″ last=”true” title=”” title_type=”single” animation=”none” implicit=”true”] \n \n[button id=”” style=”border” class=”” align=”left” link=”http://cathedralphilaconcerts.ticketleap.com/tenebrae/” linkTarget=”_self” bgColor=”accent1″ hover_color=”accent1″ font=”20″ icon=”ticket” icon_placement=”left” icon_color=””]Buy Tickets[/button] \nTenebrae Choir of London\nNigel Short – Director\nProgram:\nLobo – Versa est in luctum\nVictoria – Tenebrae Responsories\nAllegri – Miserere\nPadilla –  Missa Ego flos campi \nIntermission \nReger – Der mensch lebt und bestehet\nBrahms – Fest und gedenkspruche Op 109\nBruckner – Ave Marie\nBruckner – Virga Jesse\nBruckner – Christus factus est\nBrahms – Drei motetten Op 110\nReger – Nachtlied \n[/column] \n[text_divider type=”single”] \nThe Choir \n[/text_divider] \n[column width=”1/1″ last=”true” title=”” title_type=”single” animation=”none” implicit=”true”] \nDescribed as “phenomenal” (The Times) and “devastatingly beautiful” (Gramophone Magazine)\, award-winning choir Tenebrae\, under the direction of Nigel Short\, is one of the world’s finest vocal ensembles renowned for its passion and precision. “There is a hunger for what this finely polished group has to offer.” – The New York Times \n[/column] \n[column width=”1/1″ last=”true” title=”” title_type=”single” animation=”none” implicit=”true”] \n\n		\n		\n			\n				\n			\n				\n				Tenebrae\n				\n			\n				\n			\n				\n				Tenebrae\n				\n			\n		\n\n[/column]
URL:https://cathedralphilaconcerts.org/event/tenebrae-choir-of-london-2/
LOCATION:Cathedral Basilica of Saints Peter and Paul\, 18th and Benjamin Franklin Parkway\, Philadelphia\, PA\, 19103\, United States
CATEGORIES:2015-2016 Season,Concert
END:VEVENT
END:VCALENDAR